BEGIN:VCALENDAR
VERSION:2.0
PRODID:-//ZContent.net//ZapCalLib 1.0//EN
CALSCALE:GREGORIAN
METHOD:PUBLISH
BEGIN:VEVENT
SUMMARY:Wykład sponsorowany firmy Amgen:<br />\nZapobieganie powikłaniom 
 kostnym w strategii leczenia raka piersi — wytyczne i praktyka kliniczn
 a
DTSTART:20251025T123000
DTEND:20251025T145000
UID:Wykład sponsorowany firmy Amgen:<br />\nZapobieganie powikłaniom kost
 nym w strategii leczenia raka piersi — wytyczne i praktyka kliniczna550
 78_1776711301
DTSTAMP:20260420T185501
Description:
END:VEVENT
END:VCALENDAR
