BEGIN:VCALENDAR
VERSION:2.0
PRODID:-//ZContent.net//ZapCalLib 1.0//EN
CALSCALE:GREGORIAN
METHOD:PUBLISH
BEGIN:VEVENT
SUMMARY:Wykład sponsorowany firmy Novartis:<br />\nJak refundacja rybocykl
 ibu zmienia codzienną praktykę leczenia wczesnego raka piersi
DTSTART:20251024T161000
DTEND:20251024T183000
UID:Wykład sponsorowany firmy Novartis:<br />\nJak refundacja rybocyklibu 
 zmienia codzienną praktykę leczenia wczesnego raka piersi55077_177671127
 5
DTSTAMP:20260420T185435
Description:
END:VEVENT
END:VCALENDAR
