BEGIN:VCALENDAR
VERSION:2.0
PRODID:-//ZContent.net//ZapCalLib 1.0//EN
CALSCALE:GREGORIAN
METHOD:PUBLISH
BEGIN:VEVENT
SUMMARY:Wykład pod patronatem firmy Bristol Myers Squibb:<br />\nDekada do
 świadczeń z podwójną immunoterapią w leczeniu czerniaka
DTSTART:20251024T145000
DTEND:20251024T171000
UID:Wykład pod patronatem firmy Bristol Myers Squibb:<br />\nDekada doświ
 adczeń z podwójną immunoterapią w leczeniu czerniaka55076_1776711275
DTSTAMP:20260420T185435
Description:
END:VEVENT
END:VCALENDAR
