BEGIN:VCALENDAR
VERSION:2.0
PRODID:-//ZContent.net//ZapCalLib 1.0//EN
CALSCALE:GREGORIAN
METHOD:PUBLISH
BEGIN:VEVENT
SUMMARY:Wykład pod patronatem firmy Medison:<br />\nCemiplimab w terapii r
 aka szyjki macicy — praktyczne aspekty leczenia i przegląd przypadków 
 klinicznych
DTSTART:20251025T121000
DTEND:20251025T143000
UID:Wykład pod patronatem firmy Medison:<br />\nCemiplimab w terapii raka 
 szyjki macicy — praktyczne aspekty leczenia i przegląd przypadków klin
 icznych54578_1776711232
DTSTAMP:20260420T185352
Description:
END:VEVENT
END:VCALENDAR
