BEGIN:VCALENDAR
VERSION:2.0
PRODID:-//ZContent.net//ZapCalLib 1.0//EN
CALSCALE:GREGORIAN
METHOD:PUBLISH
BEGIN:VEVENT
SUMMARY:Wykład sponsorowany firmy AstraZeneca:<br />\nNowe opcje terapeuty
 czne w hormonozależnym raku piersi
DTSTART:20251025T105500
DTEND:20251025T131500
UID:Wykład sponsorowany firmy AstraZeneca:<br />\nNowe opcje terapeutyczne
  w hormonozależnym raku piersi54577_1776711223
DTSTAMP:20260420T185343
Description:
END:VEVENT
END:VCALENDAR
