BEGIN:VCALENDAR
VERSION:2.0
PRODID:-//ZContent.net//ZapCalLib 1.0//EN
CALSCALE:GREGORIAN
METHOD:PUBLISH
BEGIN:VEVENT
SUMMARY:Wykład sponsorowany firmy Ipsen:<br />\nTerapia skojarzona TKI/IO 
 w praktyce klinicznej
DTSTART:20251025T092500
DTEND:20251025T114500
UID:Wykład sponsorowany firmy Ipsen:<br />\nTerapia skojarzona TKI/IO w pr
 aktyce klinicznej54576_1776711218
DTSTAMP:20260420T185338
Description:
END:VEVENT
END:VCALENDAR
