BEGIN:VCALENDAR
VERSION:2.0
PRODID:-//ZContent.net//ZapCalLib 1.0//EN
CALSCALE:GREGORIAN
METHOD:PUBLISH
BEGIN:VEVENT
SUMMARY:Wykład pod patronatem firmy AstraZeneca:<br />\nWspółczesne moż
 liwości leczenia chorych na przerzutowego HER2-dodatniego raka żołądka
DTSTART:20251025T075000
DTEND:20251025T101000
UID:Wykład pod patronatem firmy AstraZeneca:<br />\nWspółczesne możliwo
 ści leczenia chorych na przerzutowego HER2-dodatniego raka żołądka5457
 4_1776711181
DTSTAMP:20260420T185301
Description:
END:VEVENT
END:VCALENDAR
