BEGIN:VCALENDAR
VERSION:2.0
PRODID:-//ZContent.net//ZapCalLib 1.0//EN
CALSCALE:GREGORIAN
METHOD:PUBLISH
BEGIN:VEVENT
SUMMARY:Wykład sponsorowany firmy Servier:<br />\nWyzwania diagnostyczne i
  terapie ukierunkowane molekularnie u chorych na glejaki o niskim stopniu 
 złośliwości
DTSTART:20251024T143000
DTEND:20251024T165000
UID:Wykład sponsorowany firmy Servier:<br />\nWyzwania diagnostyczne i ter
 apie ukierunkowane molekularnie u chorych na glejaki o niskim stopniu zło
 śliwości54573_1776711218
DTSTAMP:20260420T185338
Description:
END:VEVENT
END:VCALENDAR
