BEGIN:VCALENDAR
VERSION:2.0
PRODID:-//ZContent.net//ZapCalLib 1.0//EN
CALSCALE:GREGORIAN
METHOD:PUBLISH
BEGIN:VEVENT
SUMMARY:Wykład pod patronatem firmy Medison:<br />\nDecyzje terapeutyczne 
 u pacjentów z NDRP z wysoką ekspresją PD-L1
DTSTART:20251024T131500
DTEND:20251024T153500
UID:Wykład pod patronatem firmy Medison:<br />\nDecyzje terapeutyczne u pa
 cjentów z NDRP z wysoką ekspresją PD-L154572_1776711223
DTSTAMP:20260420T185343
Description:
END:VEVENT
END:VCALENDAR
