BEGIN:VCALENDAR
VERSION:2.0
PRODID:-//ZContent.net//ZapCalLib 1.0//EN
CALSCALE:GREGORIAN
METHOD:PUBLISH
BEGIN:VEVENT
SUMMARY:Wykład pod patronatem firmy AstraZeneca:<br />\nMożliwości inten
 syfikacji leczenia pierwszej linii NDRP z mutacją <em>EGFR </em>— kto 
 skorzysta z nowych terapii?
DTSTART:20251024T125500
DTEND:20251024T151500
UID:Wykład pod patronatem firmy AstraZeneca:<br />\nMożliwości intensyfi
 kacji leczenia pierwszej linii NDRP z mutacją <em>EGFR </em>— kto skor
 zysta z nowych terapii?54571_1776711182
DTSTAMP:20260420T185302
Description:
END:VEVENT
END:VCALENDAR
