BEGIN:VCALENDAR
VERSION:2.0
PRODID:-//ZContent.net//ZapCalLib 1.0//EN
CALSCALE:GREGORIAN
METHOD:PUBLISH
BEGIN:VEVENT
SUMMARY:Zakończenie Konferencji
DTSTART:20251025T125000
DTEND:20251025T150000
UID:Zakończenie Konferencji53046_1776711369
DTSTAMP:20260420T185609
Description:
END:VEVENT
END:VCALENDAR
