BEGIN:VCALENDAR
VERSION:2.0
PRODID:-//ZContent.net//ZapCalLib 1.0//EN
CALSCALE:GREGORIAN
METHOD:PUBLISH
BEGIN:VEVENT
SUMMARY:Sesja VIII<br />\nNowotwory kobiecego układu płciowego
DTSTART:20251025T112000
DTEND:20251025T141000
UID:Sesja VIII<br />\nNowotwory kobiecego układu płciowego53044_177671130
 7
DTSTAMP:20260420T185507
Description:
END:VEVENT
END:VCALENDAR
