BEGIN:VCALENDAR
VERSION:2.0
PRODID:-//ZContent.net//ZapCalLib 1.0//EN
CALSCALE:GREGORIAN
METHOD:PUBLISH
BEGIN:VEVENT
SUMMARY:Sesja VII<br />\nRak piersi
DTSTART:20251025T100500
DTEND:20251025T125500
UID:Sesja VII<br />\nRak piersi53042_1776711405
DTSTAMP:20260420T185645
Description:
END:VEVENT
END:VCALENDAR
