BEGIN:VCALENDAR
VERSION:2.0
PRODID:-//ZContent.net//ZapCalLib 1.0//EN
CALSCALE:GREGORIAN
METHOD:PUBLISH
BEGIN:VEVENT
SUMMARY:Sesja VI<br />\nNowotwory układu moczowo-płciowego
DTSTART:20251025T083500
DTEND:20251025T112500
UID:Sesja VI<br />\nNowotwory układu moczowo-płciowego53040_1776711338
DTSTAMP:20260420T185538
Description:
END:VEVENT
END:VCALENDAR
