BEGIN:VCALENDAR
VERSION:2.0
PRODID:-//ZContent.net//ZapCalLib 1.0//EN
CALSCALE:GREGORIAN
METHOD:PUBLISH
BEGIN:VEVENT
SUMMARY:Sesja V<br />\nNowotwory układu pokarmowego
DTSTART:20251025T070000
DTEND:20251025T095000
UID:Sesja V<br />\nNowotwory układu pokarmowego53039_1776711389
DTSTAMP:20260420T185629
Description:
END:VEVENT
END:VCALENDAR
