BEGIN:VCALENDAR
VERSION:2.0
PRODID:-//ZContent.net//ZapCalLib 1.0//EN
CALSCALE:GREGORIAN
METHOD:PUBLISH
BEGIN:VEVENT
SUMMARY:Sesja IV<br />\nDoniesienia naukowe
DTSTART:20251024T163000
DTEND:20251024T191000
UID:Sesja IV<br />\nDoniesienia naukowe53035_1776711369
DTSTAMP:20260420T185609
Description:
END:VEVENT
END:VCALENDAR
