BEGIN:VCALENDAR
VERSION:2.0
PRODID:-//ZContent.net//ZapCalLib 1.0//EN
CALSCALE:GREGORIAN
METHOD:PUBLISH
BEGIN:VEVENT
SUMMARY:Sesja II<br />\nNowotwory narządów głowy i szyi
DTSTART:20251024T134000
DTEND:20251024T163000
UID:Sesja II<br />\nNowotwory narządów głowy i szyi53033_1776711307
DTSTAMP:20260420T185507
Description:
END:VEVENT
END:VCALENDAR
