BEGIN:VCALENDAR
VERSION:2.0
PRODID:-//ZContent.net//ZapCalLib 1.0//EN
CALSCALE:GREGORIAN
METHOD:PUBLISH
BEGIN:VEVENT
SUMMARY:Sesja III<br />\nNowotwory skóry i mięsaki
DTSTART:20251024T151000
DTEND:20251024T180000
UID:Sesja III<br />\nNowotwory skóry i mięsaki53032_1776711338
DTSTAMP:20260420T185538
Description:
END:VEVENT
END:VCALENDAR
