BEGIN:VCALENDAR
VERSION:2.0
PRODID:-//ZContent.net//ZapCalLib 1.0//EN
CALSCALE:GREGORIAN
METHOD:PUBLISH
BEGIN:VEVENT
SUMMARY:Sesja I<br />\nNowotwory klatki piersiowej
DTSTART:20251024T120500
DTEND:20251024T145500
UID:Sesja I<br />\nNowotwory klatki piersiowej53030_1776711441
DTSTAMP:20260420T185721
Description:
END:VEVENT
END:VCALENDAR
