BEGIN:VCALENDAR
VERSION:2.0
PRODID:-//ZContent.net//ZapCalLib 1.0//EN
CALSCALE:GREGORIAN
METHOD:PUBLISH
BEGIN:VEVENT
SUMMARY:Lunch i rejestracja uczestników
DTSTART:20251024T110000
DTEND:20251024T140000
UID:Lunch i rejestracja uczestników53027_1776711389
DTSTAMP:20260420T185629
Description:
END:VEVENT
END:VCALENDAR
